BEGIN:VCALENDAR
VERSION:2.0
PRODID:-//马来西亚永春鸿榜陈氏公会 - ECPv5.16.1.1//NONSGML v1.0//EN
CALSCALE:GREGORIAN
METHOD:PUBLISH
X-WR-CALNAME:马来西亚永春鸿榜陈氏公会
X-ORIGINAL-URL:https://hongpongtan.org.my
X-WR-CALDESC:Events for 马来西亚永春鸿榜陈氏公会
BEGIN:VTIMEZONE
TZID:Asia/Kuala_Lumpur
BEGIN:STANDARD
TZOFFSETFROM:+0800
TZOFFSETTO:+0800
TZNAME:+08
DTSTART:20150101T000000
END:STANDARD
END:VTIMEZONE
BEGIN:VEVENT
DTSTART;VALUE=DATE:20151216
DTEND;VALUE=DATE:20151217
DTSTAMP:20260422T164402
CREATED:20151222T110237Z
LAST-MODIFIED:20151222T112637Z
UID:796-1450224000-1450310399@hongpongtan.org.my
SUMMARY:探亲团
DESCRIPTION:
URL:https://hongpongtan.org.my/event/%e6%8e%a2%e4%ba%b2%e5%9b%a2/
END:VEVENT
END:VCALENDAR